BEGIN:VCALENDAR
VERSION:2.0
PRODID:-//Al Salam Private School - ECPv4.6.10.1//NONSGML v1.0//EN
CALSCALE:GREGORIAN
METHOD:PUBLISH
X-WR-CALNAME:Al Salam Private School
X-ORIGINAL-URL:http://alsalam.uk.tempcloudsite.com
X-WR-CALDESC:Events for Al Salam Private School
BEGIN:VEVENT
DTSTART;TZID=UTC+4:20161207T080000
DTEND;TZID=UTC+4:20161207T120000
DTSTAMP:20260419T164540
CREATED:20161129T101200Z
LAST-MODIFIED:20161129T101200Z
UID:1729-1481097600-1481112000@alsalam.uk.tempcloudsite.com
SUMMARY:FS2 Picnic
DESCRIPTION:
URL:http://alsalam.uk.tempcloudsite.com/event/fs2-picnic/
ATTACH;FMTTYPE=image/png:http://alsalam.uk.tempcloudsite.com/wp-content/uploads/2016/11/image-1.png
END:VEVENT
END:VCALENDAR