BEGIN:VCALENDAR
VERSION:2.0
PRODID:-//Al Salam Private School - ECPv4.6.10.1//NONSGML v1.0//EN
CALSCALE:GREGORIAN
METHOD:PUBLISH
X-WR-CALNAME:Al Salam Private School
X-ORIGINAL-URL:http://alsalam.uk.tempcloudsite.com
X-WR-CALDESC:Events for Al Salam Private School
BEGIN:VEVENT
DTSTART;TZID=UTC+4:20170124T123000
DTEND;TZID=UTC+4:20170124T140000
DTSTAMP:20260419T151630
CREATED:20170122T055245Z
LAST-MODIFIED:20170122T055245Z
UID:1840-1485261000-1485266400@alsalam.uk.tempcloudsite.com
SUMMARY:Islamic Quiz
DESCRIPTION:
URL:http://alsalam.uk.tempcloudsite.com/event/islamic-quiz/
ATTACH;FMTTYPE=image/png:http://alsalam.uk.tempcloudsite.com/wp-content/uploads/2017/01/Islamic-Quiz-Invitation-2017.png
END:VEVENT
END:VCALENDAR