BEGIN:VCALENDAR
VERSION:2.0
PRODID:-//Al Salam Private School - ECPv4.6.10.1//NONSGML v1.0//EN
CALSCALE:GREGORIAN
METHOD:PUBLISH
X-WR-CALNAME:Al Salam Private School
X-ORIGINAL-URL:http://alsalam.uk.tempcloudsite.com
X-WR-CALDESC:Events for Al Salam Private School
BEGIN:VEVENT
DTSTART;TZID=UTC+4:20161127T080000
DTEND;TZID=UTC+4:20161127T140000
DTSTAMP:20260421T114529
CREATED:20161124T061019Z
LAST-MODIFIED:20161124T061019Z
UID:1714-1480233600-1480255200@alsalam.uk.tempcloudsite.com
SUMMARY:National Sports Day Celebrations
DESCRIPTION:
URL:http://alsalam.uk.tempcloudsite.com/event/national-sports-day-celebrations/
ATTACH;FMTTYPE=image/jpeg:http://alsalam.uk.tempcloudsite.com/wp-content/uploads/2016/11/National-Sports-Day-page-001.jpg
END:VEVENT
END:VCALENDAR