BEGIN:VCALENDAR
VERSION:2.0
PRODID:-//Al Salam Private School - ECPv4.6.10.1//NONSGML v1.0//EN
CALSCALE:GREGORIAN
METHOD:PUBLISH
X-WR-CALNAME:Al Salam Private School
X-ORIGINAL-URL:http://alsalam.uk.tempcloudsite.com
X-WR-CALDESC:Events for Al Salam Private School
BEGIN:VEVENT
DTSTART;TZID=UTC+4:20170110T073000
DTEND;TZID=UTC+4:20170110T080000
DTSTAMP:20260419T152820
CREATED:20170109T103749Z
LAST-MODIFIED:20170109T103749Z
UID:1779-1484033400-1484035200@alsalam.uk.tempcloudsite.com
SUMMARY:Prayer for Rain (Salaat Al Istisqaa)
DESCRIPTION:President Sheikh Khalifa called on all Muslims in the country to pray to Allah (the Most High) to bless the land with rain and mercy\, in accordance with Prophet Mohammed’s Sunnah [way]. \nFollowing this example of Prophet Mohammed (PBUH)\, we have organised Salat Al-Istisqa’  in the multipurpose hall for Years 6-12. Kindly ensure that the students come to school in a state of Wudu. \n
URL:http://alsalam.uk.tempcloudsite.com/event/prayer-rain-salaat-al-istisqaa/
END:VEVENT
END:VCALENDAR