BEGIN:VCALENDAR
VERSION:2.0
PRODID:-//Al Salam Private School - ECPv4.6.10.1//NONSGML v1.0//EN
CALSCALE:GREGORIAN
METHOD:PUBLISH
X-WR-CALNAME:Al Salam Private School
X-ORIGINAL-URL:http://alsalam.uk.tempcloudsite.com
X-WR-CALDESC:Events for Al Salam Private School
BEGIN:VEVENT
DTSTART;TZID=UTC+4:20170214T080000
DTEND;TZID=UTC+4:20170214T140000
DTSTAMP:20260421T131318
CREATED:20170117T082051Z
LAST-MODIFIED:20170117T083544Z
UID:1822-1487059200-1487080800@alsalam.uk.tempcloudsite.com
SUMMARY:QUIZCOM 2017 (Interschool Quiz)- Secondary Department
DESCRIPTION:
URL:http://alsalam.uk.tempcloudsite.com/event/quizcom-2017-interschool-trip-secondary-department/
END:VEVENT
END:VCALENDAR