BEGIN:VCALENDAR
VERSION:2.0
PRODID:-//Al Salam Private School - ECPv4.6.10.1//NONSGML v1.0//EN
CALSCALE:GREGORIAN
METHOD:PUBLISH
X-WR-CALNAME:Al Salam Private School
X-ORIGINAL-URL:http://alsalam.uk.tempcloudsite.com
X-WR-CALDESC:Events for Al Salam Private School
BEGIN:VEVENT
DTSTART;TZID=UTC+4:20170212T080000
DTEND;TZID=UTC+4:20170212T140000
DTSTAMP:20260421T164222
CREATED:20170109T104457Z
LAST-MODIFIED:20170109T104541Z
UID:1784-1486886400-1486908000@alsalam.uk.tempcloudsite.com
SUMMARY:Re-registration of current Year 7 to Year 11 students
DESCRIPTION:12 February to 23 February (inclusive) \nCurrent Year 7 to Year 11 students who would like to re-register \n
URL:http://alsalam.uk.tempcloudsite.com/event/re-registration-current-year-7-year-11-students/
END:VEVENT
END:VCALENDAR