BEGIN:VCALENDAR
VERSION:2.0
PRODID:-//Al Salam Private School - ECPv4.6.10.1//NONSGML v1.0//EN
CALSCALE:GREGORIAN
METHOD:PUBLISH
X-WR-CALNAME:Al Salam Private School
X-ORIGINAL-URL:http://alsalam.uk.tempcloudsite.com
X-WR-CALDESC:Events for Al Salam Private School
BEGIN:VEVENT
DTSTART;TZID=UTC+4:20170202T080000
DTEND;TZID=UTC+4:20170202T170000
DTSTAMP:20260421T084606
CREATED:20161112T063639Z
LAST-MODIFIED:20161112T063639Z
UID:1506-1486022400-1486054800@alsalam.uk.tempcloudsite.com
SUMMARY:School Closed for Staff Training
DESCRIPTION:
URL:http://alsalam.uk.tempcloudsite.com/event/school-closed-staff-training/
LOCATION:Al Salam Private School & Nursery\, Dubai\, Dubai\, United Arab Emirates
END:VEVENT
END:VCALENDAR