BEGIN:VCALENDAR
VERSION:2.0
PRODID:-//Al Salam Private School - ECPv4.6.10.1//NONSGML v1.0//EN
CALSCALE:GREGORIAN
METHOD:PUBLISH
X-WR-CALNAME:Al Salam Private School
X-ORIGINAL-URL:http://alsalam.uk.tempcloudsite.com
X-WR-CALDESC:Events for Al Salam Private School
BEGIN:VEVENT
DTSTART;TZID=UTC+4:20161211T080000
DTEND;TZID=UTC+4:20161211T140000
DTSTAMP:20260419T170030
CREATED:20161208T035055Z
LAST-MODIFIED:20161208T035055Z
UID:1735-1481443200-1481464800@alsalam.uk.tempcloudsite.com
SUMMARY:School Closed
DESCRIPTION:
URL:http://alsalam.uk.tempcloudsite.com/event/school-closed/
ATTACH;FMTTYPE=image/jpeg:http://alsalam.uk.tempcloudsite.com/wp-content/uploads/2016/12/School-closed-on-11-Dec-page-001.jpg
END:VEVENT
END:VCALENDAR