BEGIN:VCALENDAR
VERSION:2.0
PRODID:-//Al Salam Private School - ECPv4.6.10.1//NONSGML v1.0//EN
CALSCALE:GREGORIAN
METHOD:PUBLISH
X-WR-CALNAME:Al Salam Private School
X-ORIGINAL-URL:http://alsalam.uk.tempcloudsite.com
X-WR-CALDESC:Events for Al Salam Private School
BEGIN:VEVENT
DTSTART;TZID=UTC+4:20170125T080000
DTEND;TZID=UTC+4:20170125T140000
DTSTAMP:20260419T152800
CREATED:20170110T034120Z
LAST-MODIFIED:20170110T034120Z
UID:1798-1485331200-1485352800@alsalam.uk.tempcloudsite.com
SUMMARY:Year 7-10 Mid-Year Examinations (start)
DESCRIPTION:
URL:http://alsalam.uk.tempcloudsite.com/event/year-7-10-mid-year-examinations-start/
END:VEVENT
END:VCALENDAR